BEGIN:VCALENDAR
VERSION:2.0
PRODID:-//Glendale Indiana Seventh-day Adventist Church - ECPv6.15.20//NONSGML v1.0//EN
CALSCALE:GREGORIAN
METHOD:PUBLISH
X-WR-CALNAME:Glendale Indiana Seventh-day Adventist Church
X-ORIGINAL-URL:https://glendalesda.org
X-WR-CALDESC:Events for Glendale Indiana Seventh-day Adventist Church
REFRESH-INTERVAL;VALUE=DURATION:PT1H
X-Robots-Tag:noindex
X-PUBLISHED-TTL:PT1H
BEGIN:VTIMEZONE
TZID:UTC
BEGIN:STANDARD
TZOFFSETFROM:+0000
TZOFFSETTO:+0000
TZNAME:UTC
DTSTART:20250101T000000
END:STANDARD
END:VTIMEZONE
BEGIN:VEVENT
DTSTART;TZID=UTC:20260516T093000
DTEND;TZID=UTC:20260516T103000
DTSTAMP:20260423T062203
CREATED:20211022T011614Z
LAST-MODIFIED:20211022T011614Z
UID:10817265-1778923800-1778927400@glendalesda.org
SUMMARY:Adult Sabbath School
DESCRIPTION:
URL:https://glendalesda.org/event/adult-sabbath-school/2026-05-16/
CATEGORIES:Members
END:VEVENT
BEGIN:VEVENT
DTSTART;TZID=UTC:20260516T093000
DTEND;TZID=UTC:20260516T103000
DTSTAMP:20260423T062203
CREATED:20211022T011614Z
LAST-MODIFIED:20211022T011614Z
UID:10820826-1778923800-1778927400@glendalesda.org
SUMMARY:Adult Sabbath School
DESCRIPTION:
URL:https://glendalesda.org/event/adult-sabbath-school/2026-05-16/
CATEGORIES:Members
END:VEVENT
BEGIN:VEVENT
DTSTART;TZID=UTC:20260516T093000
DTEND;TZID=UTC:20260516T103000
DTSTAMP:20260423T062203
CREATED:20211022T011614Z
LAST-MODIFIED:20211022T011614Z
UID:10824326-1778923800-1778927400@glendalesda.org
SUMMARY:Adult Sabbath School
DESCRIPTION:
URL:https://glendalesda.org/event/adult-sabbath-school/2026-05-16/
CATEGORIES:Members
END:VEVENT
BEGIN:VEVENT
DTSTART;TZID=UTC:20260516T093000
DTEND;TZID=UTC:20260516T103000
DTSTAMP:20260423T062203
CREATED:20211022T011614Z
LAST-MODIFIED:20211022T011614Z
UID:10827762-1778923800-1778927400@glendalesda.org
SUMMARY:Adult Sabbath School
DESCRIPTION:
URL:https://glendalesda.org/event/adult-sabbath-school/2026-05-16/
CATEGORIES:Members
END:VEVENT
BEGIN:VEVENT
DTSTART;TZID=UTC:20260516T093000
DTEND;TZID=UTC:20260516T103000
DTSTAMP:20260423T062203
CREATED:20211022T011614Z
LAST-MODIFIED:20211022T011614Z
UID:10831134-1778923800-1778927400@glendalesda.org
SUMMARY:Adult Sabbath School
DESCRIPTION:
URL:https://glendalesda.org/event/adult-sabbath-school/2026-05-16/
CATEGORIES:Members
END:VEVENT
BEGIN:VEVENT
DTSTART;TZID=UTC:20260516T093000
DTEND;TZID=UTC:20260516T103000
DTSTAMP:20260423T062203
CREATED:20211022T011614Z
LAST-MODIFIED:20211022T011614Z
UID:10834442-1778923800-1778927400@glendalesda.org
SUMMARY:Adult Sabbath School
DESCRIPTION:
URL:https://glendalesda.org/event/adult-sabbath-school/2026-05-16/
CATEGORIES:Members
END:VEVENT
BEGIN:VEVENT
DTSTART;TZID=UTC:20260516T093000
DTEND;TZID=UTC:20260516T103000
DTSTAMP:20260423T062203
CREATED:20211022T011614Z
LAST-MODIFIED:20211022T011614Z
UID:10837686-1778923800-1778927400@glendalesda.org
SUMMARY:Adult Sabbath School
DESCRIPTION:
URL:https://glendalesda.org/event/adult-sabbath-school/2026-05-16/
CATEGORIES:Members
END:VEVENT
BEGIN:VEVENT
DTSTART;TZID=UTC:20260516T093000
DTEND;TZID=UTC:20260516T103000
DTSTAMP:20260423T062203
CREATED:20211022T011614Z
LAST-MODIFIED:20211022T011614Z
UID:10840866-1778923800-1778927400@glendalesda.org
SUMMARY:Adult Sabbath School
DESCRIPTION:
URL:https://glendalesda.org/event/adult-sabbath-school/2026-05-16/
CATEGORIES:Members
END:VEVENT
BEGIN:VEVENT
DTSTART;TZID=UTC:20260516T093000
DTEND;TZID=UTC:20260516T103000
DTSTAMP:20260423T062203
CREATED:20211022T011614Z
LAST-MODIFIED:20211022T011614Z
UID:10843982-1778923800-1778927400@glendalesda.org
SUMMARY:Adult Sabbath School
DESCRIPTION:
URL:https://glendalesda.org/event/adult-sabbath-school/2026-05-16/
CATEGORIES:Members
END:VEVENT
BEGIN:VEVENT
DTSTART;TZID=UTC:20260516T093000
DTEND;TZID=UTC:20260516T103000
DTSTAMP:20260423T062203
CREATED:20211022T011614Z
LAST-MODIFIED:20211022T011614Z
UID:10814101-1778923800-1778927400@glendalesda.org
SUMMARY:Adult Sabbath School
DESCRIPTION:
URL:https://glendalesda.org/event/adult-sabbath-school/2026-05-16/
CATEGORIES:Members
END:VEVENT
BEGIN:VEVENT
DTSTART;TZID=UTC:20260516T093000
DTEND;TZID=UTC:20260516T103000
DTSTAMP:20260423T062203
CREATED:20211022T011614Z
LAST-MODIFIED:20211022T011614Z
UID:10817713-1778923800-1778927400@glendalesda.org
SUMMARY:Adult Sabbath School
DESCRIPTION:
URL:https://glendalesda.org/event/adult-sabbath-school/2026-05-16/
CATEGORIES:Members
END:VEVENT
BEGIN:VEVENT
DTSTART;TZID=UTC:20260516T093000
DTEND;TZID=UTC:20260516T103000
DTSTAMP:20260423T062203
CREATED:20211022T011614Z
LAST-MODIFIED:20211022T011614Z
UID:10821267-1778923800-1778927400@glendalesda.org
SUMMARY:Adult Sabbath School
DESCRIPTION:
URL:https://glendalesda.org/event/adult-sabbath-school/2026-05-16/
CATEGORIES:Members
END:VEVENT
BEGIN:VEVENT
DTSTART;TZID=UTC:20260516T093000
DTEND;TZID=UTC:20260516T103000
DTSTAMP:20260423T062203
CREATED:20211022T011614Z
LAST-MODIFIED:20211022T011614Z
UID:10824759-1778923800-1778927400@glendalesda.org
SUMMARY:Adult Sabbath School
DESCRIPTION:
URL:https://glendalesda.org/event/adult-sabbath-school/2026-05-16/
CATEGORIES:Members
END:VEVENT
BEGIN:VEVENT
DTSTART;TZID=UTC:20260516T093000
DTEND;TZID=UTC:20260516T103000
DTSTAMP:20260423T062203
CREATED:20211022T011614Z
LAST-MODIFIED:20211022T011614Z
UID:10828187-1778923800-1778927400@glendalesda.org
SUMMARY:Adult Sabbath School
DESCRIPTION:
URL:https://glendalesda.org/event/adult-sabbath-school/2026-05-16/
CATEGORIES:Members
END:VEVENT
BEGIN:VEVENT
DTSTART;TZID=UTC:20260516T093000
DTEND;TZID=UTC:20260516T103000
DTSTAMP:20260423T062203
CREATED:20211022T011614Z
LAST-MODIFIED:20211022T011614Z
UID:10831551-1778923800-1778927400@glendalesda.org
SUMMARY:Adult Sabbath School
DESCRIPTION:
URL:https://glendalesda.org/event/adult-sabbath-school/2026-05-16/
CATEGORIES:Members
END:VEVENT
BEGIN:VEVENT
DTSTART;TZID=UTC:20260516T093000
DTEND;TZID=UTC:20260516T103000
DTSTAMP:20260423T062203
CREATED:20211022T011614Z
LAST-MODIFIED:20211022T011614Z
UID:10834851-1778923800-1778927400@glendalesda.org
SUMMARY:Adult Sabbath School
DESCRIPTION:
URL:https://glendalesda.org/event/adult-sabbath-school/2026-05-16/
CATEGORIES:Members
END:VEVENT
BEGIN:VEVENT
DTSTART;TZID=UTC:20260516T093000
DTEND;TZID=UTC:20260516T103000
DTSTAMP:20260423T062203
CREATED:20211022T011614Z
LAST-MODIFIED:20211022T011614Z
UID:10838087-1778923800-1778927400@glendalesda.org
SUMMARY:Adult Sabbath School
DESCRIPTION:
URL:https://glendalesda.org/event/adult-sabbath-school/2026-05-16/
CATEGORIES:Members
END:VEVENT
BEGIN:VEVENT
DTSTART;TZID=UTC:20260516T093000
DTEND;TZID=UTC:20260516T103000
DTSTAMP:20260423T062203
CREATED:20211022T011614Z
LAST-MODIFIED:20211022T011614Z
UID:10841259-1778923800-1778927400@glendalesda.org
SUMMARY:Adult Sabbath School
DESCRIPTION:
URL:https://glendalesda.org/event/adult-sabbath-school/2026-05-16/
CATEGORIES:Members
END:VEVENT
BEGIN:VEVENT
DTSTART;TZID=UTC:20260516T093000
DTEND;TZID=UTC:20260516T103000
DTSTAMP:20260423T062203
CREATED:20211022T011614Z
LAST-MODIFIED:20211022T011614Z
UID:10844367-1778923800-1778927400@glendalesda.org
SUMMARY:Adult Sabbath School
DESCRIPTION:
URL:https://glendalesda.org/event/adult-sabbath-school/2026-05-16/
CATEGORIES:Members
END:VEVENT
BEGIN:VEVENT
DTSTART;TZID=UTC:20260516T093000
DTEND;TZID=UTC:20260516T103000
DTSTAMP:20260423T062203
CREATED:20211022T011614Z
LAST-MODIFIED:20211022T011614Z
UID:10814556-1778923800-1778927400@glendalesda.org
SUMMARY:Adult Sabbath School
DESCRIPTION:
URL:https://glendalesda.org/event/adult-sabbath-school/2026-05-16/
CATEGORIES:Members
END:VEVENT
BEGIN:VEVENT
DTSTART;TZID=UTC:20260516T093000
DTEND;TZID=UTC:20260516T103000
DTSTAMP:20260423T062203
CREATED:20211022T011614Z
LAST-MODIFIED:20211022T011614Z
UID:10818160-1778923800-1778927400@glendalesda.org
SUMMARY:Adult Sabbath School
DESCRIPTION:
URL:https://glendalesda.org/event/adult-sabbath-school/2026-05-16/
CATEGORIES:Members
END:VEVENT
BEGIN:VEVENT
DTSTART;TZID=UTC:20260516T093000
DTEND;TZID=UTC:20260516T103000
DTSTAMP:20260423T062203
CREATED:20211022T011614Z
LAST-MODIFIED:20211022T011614Z
UID:10821707-1778923800-1778927400@glendalesda.org
SUMMARY:Adult Sabbath School
DESCRIPTION:
URL:https://glendalesda.org/event/adult-sabbath-school/2026-05-16/
CATEGORIES:Members
END:VEVENT
BEGIN:VEVENT
DTSTART;TZID=UTC:20260516T093000
DTEND;TZID=UTC:20260516T103000
DTSTAMP:20260423T062203
CREATED:20211022T011614Z
LAST-MODIFIED:20211022T011614Z
UID:10825191-1778923800-1778927400@glendalesda.org
SUMMARY:Adult Sabbath School
DESCRIPTION:
URL:https://glendalesda.org/event/adult-sabbath-school/2026-05-16/
CATEGORIES:Members
END:VEVENT
BEGIN:VEVENT
DTSTART;TZID=UTC:20260516T093000
DTEND;TZID=UTC:20260516T103000
DTSTAMP:20260423T062203
CREATED:20211022T011614Z
LAST-MODIFIED:20211022T011614Z
UID:10828611-1778923800-1778927400@glendalesda.org
SUMMARY:Adult Sabbath School
DESCRIPTION:
URL:https://glendalesda.org/event/adult-sabbath-school/2026-05-16/
CATEGORIES:Members
END:VEVENT
BEGIN:VEVENT
DTSTART;TZID=UTC:20260516T093000
DTEND;TZID=UTC:20260516T103000
DTSTAMP:20260423T062203
CREATED:20211022T011614Z
LAST-MODIFIED:20211022T011614Z
UID:10831967-1778923800-1778927400@glendalesda.org
SUMMARY:Adult Sabbath School
DESCRIPTION:
URL:https://glendalesda.org/event/adult-sabbath-school/2026-05-16/
CATEGORIES:Members
END:VEVENT
BEGIN:VEVENT
DTSTART;TZID=UTC:20260516T093000
DTEND;TZID=UTC:20260516T103000
DTSTAMP:20260423T062203
CREATED:20211022T011614Z
LAST-MODIFIED:20211022T011614Z
UID:10835259-1778923800-1778927400@glendalesda.org
SUMMARY:Adult Sabbath School
DESCRIPTION:
URL:https://glendalesda.org/event/adult-sabbath-school/2026-05-16/
CATEGORIES:Members
END:VEVENT
BEGIN:VEVENT
DTSTART;TZID=UTC:20260516T093000
DTEND;TZID=UTC:20260516T103000
DTSTAMP:20260423T062203
CREATED:20211022T011614Z
LAST-MODIFIED:20211022T011614Z
UID:10838487-1778923800-1778927400@glendalesda.org
SUMMARY:Adult Sabbath School
DESCRIPTION:
URL:https://glendalesda.org/event/adult-sabbath-school/2026-05-16/
CATEGORIES:Members
END:VEVENT
BEGIN:VEVENT
DTSTART;TZID=UTC:20260516T093000
DTEND;TZID=UTC:20260516T103000
DTSTAMP:20260423T062203
CREATED:20211022T011614Z
LAST-MODIFIED:20211022T011614Z
UID:10841651-1778923800-1778927400@glendalesda.org
SUMMARY:Adult Sabbath School
DESCRIPTION:
URL:https://glendalesda.org/event/adult-sabbath-school/2026-05-16/
CATEGORIES:Members
END:VEVENT
BEGIN:VEVENT
DTSTART;TZID=UTC:20260516T093000
DTEND;TZID=UTC:20260516T103000
DTSTAMP:20260423T062203
CREATED:20211022T011614Z
LAST-MODIFIED:20211022T011614Z
UID:10815010-1778923800-1778927400@glendalesda.org
SUMMARY:Adult Sabbath School
DESCRIPTION:
URL:https://glendalesda.org/event/adult-sabbath-school/2026-05-16/
CATEGORIES:Members
END:VEVENT
BEGIN:VEVENT
DTSTART;TZID=UTC:20260516T093000
DTEND;TZID=UTC:20260516T103000
DTSTAMP:20260423T062203
CREATED:20211022T011614Z
LAST-MODIFIED:20211022T011614Z
UID:10818606-1778923800-1778927400@glendalesda.org
SUMMARY:Adult Sabbath School
DESCRIPTION:
URL:https://glendalesda.org/event/adult-sabbath-school/2026-05-16/
CATEGORIES:Members
END:VEVENT
END:VCALENDAR