BEGIN:VCALENDAR
VERSION:2.0
PRODID:-//Glendale Indiana Seventh-day Adventist Church - ECPv6.15.20//NONSGML v1.0//EN
CALSCALE:GREGORIAN
METHOD:PUBLISH
X-ORIGINAL-URL:https://glendalesda.org
X-WR-CALDESC:Events for Glendale Indiana Seventh-day Adventist Church
REFRESH-INTERVAL;VALUE=DURATION:PT1H
X-Robots-Tag:noindex
X-PUBLISHED-TTL:PT1H
BEGIN:VTIMEZONE
TZID:UTC
BEGIN:STANDARD
TZOFFSETFROM:+0000
TZOFFSETTO:+0000
TZNAME:UTC
DTSTART:20250101T000000
END:STANDARD
END:VTIMEZONE
BEGIN:VEVENT
DTSTART;TZID=UTC:20260425T093000
DTEND;TZID=UTC:20260425T103000
DTSTAMP:20260423T083530
CREATED:20211022T011614Z
LAST-MODIFIED:20211022T011614Z
UID:10843979-1777109400-1777113000@glendalesda.org
SUMMARY:Adult Sabbath School
DESCRIPTION:
URL:https://glendalesda.org/event/adult-sabbath-school/2026-04-25/
CATEGORIES:Members
END:VEVENT
BEGIN:VEVENT
DTSTART;TZID=UTC:20260425T093000
DTEND;TZID=UTC:20260425T103000
DTSTAMP:20260423T083530
CREATED:20211022T011614Z
LAST-MODIFIED:20211022T011614Z
UID:10840863-1777109400-1777113000@glendalesda.org
SUMMARY:Adult Sabbath School
DESCRIPTION:
URL:https://glendalesda.org/event/adult-sabbath-school/2026-04-25/
CATEGORIES:Members
END:VEVENT
BEGIN:VEVENT
DTSTART;TZID=UTC:20260425T093000
DTEND;TZID=UTC:20260425T103000
DTSTAMP:20260423T083530
CREATED:20211022T011614Z
LAST-MODIFIED:20211022T011614Z
UID:10823454-1777109400-1777113000@glendalesda.org
SUMMARY:Adult Sabbath School
DESCRIPTION:
URL:https://glendalesda.org/event/adult-sabbath-school/2026-04-25/
CATEGORIES:Members
END:VEVENT
BEGIN:VEVENT
DTSTART;TZID=UTC:20260425T093000
DTEND;TZID=UTC:20260425T103000
DTSTAMP:20260423T083530
CREATED:20211022T011614Z
LAST-MODIFIED:20211022T011614Z
UID:10819938-1777109400-1777113000@glendalesda.org
SUMMARY:Adult Sabbath School
DESCRIPTION:
URL:https://glendalesda.org/event/adult-sabbath-school/2026-04-25/
CATEGORIES:Members
END:VEVENT
BEGIN:VEVENT
DTSTART;TZID=UTC:20260425T093000
DTEND;TZID=UTC:20260425T103000
DTSTAMP:20260423T083530
CREATED:20211022T011614Z
LAST-MODIFIED:20211022T011614Z
UID:10838883-1777109400-1777113000@glendalesda.org
SUMMARY:Adult Sabbath School
DESCRIPTION:
URL:https://glendalesda.org/event/adult-sabbath-school/2026-04-25/
CATEGORIES:Members
END:VEVENT
BEGIN:VEVENT
DTSTART;TZID=UTC:20260425T093000
DTEND;TZID=UTC:20260425T103000
DTSTAMP:20260423T083530
CREATED:20211022T011614Z
LAST-MODIFIED:20211022T011614Z
UID:10835663-1777109400-1777113000@glendalesda.org
SUMMARY:Adult Sabbath School
DESCRIPTION:
URL:https://glendalesda.org/event/adult-sabbath-school/2026-04-25/
CATEGORIES:Members
END:VEVENT
BEGIN:VEVENT
DTSTART;TZID=UTC:20260425T093000
DTEND;TZID=UTC:20260425T103000
DTSTAMP:20260423T083530
CREATED:20211022T011614Z
LAST-MODIFIED:20211022T011614Z
UID:10832379-1777109400-1777113000@glendalesda.org
SUMMARY:Adult Sabbath School
DESCRIPTION:
URL:https://glendalesda.org/event/adult-sabbath-school/2026-04-25/
CATEGORIES:Members
END:VEVENT
BEGIN:VEVENT
DTSTART;TZID=UTC:20260425T093000
DTEND;TZID=UTC:20260425T103000
DTSTAMP:20260423T083530
CREATED:20211022T011614Z
LAST-MODIFIED:20211022T011614Z
UID:10829031-1777109400-1777113000@glendalesda.org
SUMMARY:Adult Sabbath School
DESCRIPTION:
URL:https://glendalesda.org/event/adult-sabbath-school/2026-04-25/
CATEGORIES:Members
END:VEVENT
BEGIN:VEVENT
DTSTART;TZID=UTC:20260425T093000
DTEND;TZID=UTC:20260425T103000
DTSTAMP:20260423T083530
CREATED:20211022T011614Z
LAST-MODIFIED:20211022T011614Z
UID:10825619-1777109400-1777113000@glendalesda.org
SUMMARY:Adult Sabbath School
DESCRIPTION:
URL:https://glendalesda.org/event/adult-sabbath-school/2026-04-25/
CATEGORIES:Members
END:VEVENT
BEGIN:VEVENT
DTSTART;TZID=UTC:20260425T093000
DTEND;TZID=UTC:20260425T103000
DTSTAMP:20260423T083530
CREATED:20211022T011614Z
LAST-MODIFIED:20211022T011614Z
UID:10822143-1777109400-1777113000@glendalesda.org
SUMMARY:Adult Sabbath School
DESCRIPTION:
URL:https://glendalesda.org/event/adult-sabbath-school/2026-04-25/
CATEGORIES:Members
END:VEVENT
BEGIN:VEVENT
DTSTART;TZID=UTC:20260425T093000
DTEND;TZID=UTC:20260425T103000
DTSTAMP:20260423T083530
CREATED:20211022T011614Z
LAST-MODIFIED:20211022T011614Z
UID:10818603-1777109400-1777113000@glendalesda.org
SUMMARY:Adult Sabbath School
DESCRIPTION:
URL:https://glendalesda.org/event/adult-sabbath-school/2026-04-25/
CATEGORIES:Members
END:VEVENT
BEGIN:VEVENT
DTSTART;TZID=UTC:20260425T093000
DTEND;TZID=UTC:20260425T103000
DTSTAMP:20260423T083530
CREATED:20211022T011614Z
LAST-MODIFIED:20211022T011614Z
UID:10815007-1777109400-1777113000@glendalesda.org
SUMMARY:Adult Sabbath School
DESCRIPTION:
URL:https://glendalesda.org/event/adult-sabbath-school/2026-04-25/
CATEGORIES:Members
END:VEVENT
BEGIN:VEVENT
DTSTART;TZID=UTC:20260425T093000
DTEND;TZID=UTC:20260425T103000
DTSTAMP:20260423T083530
CREATED:20211022T011614Z
LAST-MODIFIED:20211022T011614Z
UID:10815912-1777109400-1777113000@glendalesda.org
SUMMARY:Adult Sabbath School
DESCRIPTION:
URL:https://glendalesda.org/event/adult-sabbath-school/2026-04-25/
CATEGORIES:Members
END:VEVENT
BEGIN:VEVENT
DTSTART;TZID=UTC:20260425T093000
DTEND;TZID=UTC:20260425T103000
DTSTAMP:20260423T083530
CREATED:20211022T011614Z
LAST-MODIFIED:20211022T011614Z
UID:10837683-1777109400-1777113000@glendalesda.org
SUMMARY:Adult Sabbath School
DESCRIPTION:
URL:https://glendalesda.org/event/adult-sabbath-school/2026-04-25/
CATEGORIES:Members
END:VEVENT
BEGIN:VEVENT
DTSTART;TZID=UTC:20260425T093000
DTEND;TZID=UTC:20260425T103000
DTSTAMP:20260423T083530
CREATED:20211022T011614Z
LAST-MODIFIED:20211022T011614Z
UID:10834439-1777109400-1777113000@glendalesda.org
SUMMARY:Adult Sabbath School
DESCRIPTION:
URL:https://glendalesda.org/event/adult-sabbath-school/2026-04-25/
CATEGORIES:Members
END:VEVENT
BEGIN:VEVENT
DTSTART;TZID=UTC:20260425T093000
DTEND;TZID=UTC:20260425T103000
DTSTAMP:20260423T083530
CREATED:20211022T011614Z
LAST-MODIFIED:20211022T011614Z
UID:10831131-1777109400-1777113000@glendalesda.org
SUMMARY:Adult Sabbath School
DESCRIPTION:
URL:https://glendalesda.org/event/adult-sabbath-school/2026-04-25/
CATEGORIES:Members
END:VEVENT
BEGIN:VEVENT
DTSTART;TZID=UTC:20260425T093000
DTEND;TZID=UTC:20260425T103000
DTSTAMP:20260423T083530
CREATED:20211022T011614Z
LAST-MODIFIED:20211022T011614Z
UID:10827759-1777109400-1777113000@glendalesda.org
SUMMARY:Adult Sabbath School
DESCRIPTION:
URL:https://glendalesda.org/event/adult-sabbath-school/2026-04-25/
CATEGORIES:Members
END:VEVENT
BEGIN:VEVENT
DTSTART;TZID=UTC:20260425T093000
DTEND;TZID=UTC:20260425T103000
DTSTAMP:20260423T083530
CREATED:20211022T011614Z
LAST-MODIFIED:20211022T011614Z
UID:10816813-1777109400-1777113000@glendalesda.org
SUMMARY:Adult Sabbath School
DESCRIPTION:
URL:https://glendalesda.org/event/adult-sabbath-school/2026-04-25/
CATEGORIES:Members
END:VEVENT
BEGIN:VEVENT
DTSTART;TZID=UTC:20260425T093000
DTEND;TZID=UTC:20260425T103000
DTSTAMP:20260423T083530
CREATED:20211022T011614Z
LAST-MODIFIED:20211022T011614Z
UID:10842818-1777109400-1777113000@glendalesda.org
SUMMARY:Adult Sabbath School
DESCRIPTION:
URL:https://glendalesda.org/event/adult-sabbath-school/2026-04-25/
CATEGORIES:Members
END:VEVENT
BEGIN:VEVENT
DTSTART;TZID=UTC:20260425T093000
DTEND;TZID=UTC:20260425T103000
DTSTAMP:20260423T083530
CREATED:20211022T011614Z
LAST-MODIFIED:20211022T011614Z
UID:10817710-1777109400-1777113000@glendalesda.org
SUMMARY:Adult Sabbath School
DESCRIPTION:
URL:https://glendalesda.org/event/adult-sabbath-school/2026-04-25/
CATEGORIES:Members
END:VEVENT
BEGIN:VEVENT
DTSTART;TZID=UTC:20260425T093000
DTEND;TZID=UTC:20260425T103000
DTSTAMP:20260423T083530
CREATED:20211022T011614Z
LAST-MODIFIED:20211022T011614Z
UID:10814098-1777109400-1777113000@glendalesda.org
SUMMARY:Adult Sabbath School
DESCRIPTION:
URL:https://glendalesda.org/event/adult-sabbath-school/2026-04-25/
CATEGORIES:Members
END:VEVENT
BEGIN:VEVENT
DTSTART;TZID=UTC:20260425T093000
DTEND;TZID=UTC:20260425T103000
DTSTAMP:20260423T083530
CREATED:20211022T011614Z
LAST-MODIFIED:20211022T011614Z
UID:10839678-1777109400-1777113000@glendalesda.org
SUMMARY:Adult Sabbath School
DESCRIPTION:
URL:https://glendalesda.org/event/adult-sabbath-school/2026-04-25/
CATEGORIES:Members
END:VEVENT
BEGIN:VEVENT
DTSTART;TZID=UTC:20260425T093000
DTEND;TZID=UTC:20260425T103000
DTSTAMP:20260423T083530
CREATED:20211022T011614Z
LAST-MODIFIED:20211022T011614Z
UID:10836474-1777109400-1777113000@glendalesda.org
SUMMARY:Adult Sabbath School
DESCRIPTION:
URL:https://glendalesda.org/event/adult-sabbath-school/2026-04-25/
CATEGORIES:Members
END:VEVENT
BEGIN:VEVENT
DTSTART;TZID=UTC:20260425T093000
DTEND;TZID=UTC:20260425T103000
DTSTAMP:20260423T083530
CREATED:20211022T011614Z
LAST-MODIFIED:20211022T011614Z
UID:10833206-1777109400-1777113000@glendalesda.org
SUMMARY:Adult Sabbath School
DESCRIPTION:
URL:https://glendalesda.org/event/adult-sabbath-school/2026-04-25/
CATEGORIES:Members
END:VEVENT
BEGIN:VEVENT
DTSTART;TZID=UTC:20260425T093000
DTEND;TZID=UTC:20260425T103000
DTSTAMP:20260423T083530
CREATED:20211022T011614Z
LAST-MODIFIED:20211022T011614Z
UID:10829874-1777109400-1777113000@glendalesda.org
SUMMARY:Adult Sabbath School
DESCRIPTION:
URL:https://glendalesda.org/event/adult-sabbath-school/2026-04-25/
CATEGORIES:Members
END:VEVENT
BEGIN:VEVENT
DTSTART;TZID=UTC:20260425T093000
DTEND;TZID=UTC:20260425T103000
DTSTAMP:20260423T083530
CREATED:20211022T011614Z
LAST-MODIFIED:20211022T011614Z
UID:10841648-1777109400-1777113000@glendalesda.org
SUMMARY:Adult Sabbath School
DESCRIPTION:
URL:https://glendalesda.org/event/adult-sabbath-school/2026-04-25/
CATEGORIES:Members
END:VEVENT
BEGIN:VEVENT
DTSTART;TZID=UTC:20260425T093000
DTEND;TZID=UTC:20260425T103000
DTSTAMP:20260423T083530
CREATED:20211022T011614Z
LAST-MODIFIED:20211022T011614Z
UID:10824323-1777109400-1777113000@glendalesda.org
SUMMARY:Adult Sabbath School
DESCRIPTION:
URL:https://glendalesda.org/event/adult-sabbath-school/2026-04-25/
CATEGORIES:Members
END:VEVENT
BEGIN:VEVENT
DTSTART;TZID=UTC:20260425T093000
DTEND;TZID=UTC:20260425T103000
DTSTAMP:20260423T083530
CREATED:20211022T011614Z
LAST-MODIFIED:20211022T011614Z
UID:10820823-1777109400-1777113000@glendalesda.org
SUMMARY:Adult Sabbath School
DESCRIPTION:
URL:https://glendalesda.org/event/adult-sabbath-school/2026-04-25/
CATEGORIES:Members
END:VEVENT
BEGIN:VEVENT
DTSTART;TZID=UTC:20260425T093000
DTEND;TZID=UTC:20260425T103000
DTSTAMP:20260423T083530
CREATED:20211022T011614Z
LAST-MODIFIED:20211022T011614Z
UID:10826478-1777109400-1777113000@glendalesda.org
SUMMARY:Adult Sabbath School
DESCRIPTION:
URL:https://glendalesda.org/event/adult-sabbath-school/2026-04-25/
CATEGORIES:Members
END:VEVENT
BEGIN:VEVENT
DTSTART;TZID=UTC:20260425T093000
DTEND;TZID=UTC:20260425T103000
DTSTAMP:20260423T083530
CREATED:20211022T011614Z
LAST-MODIFIED:20211022T011614Z
UID:10823018-1777109400-1777113000@glendalesda.org
SUMMARY:Adult Sabbath School
DESCRIPTION:
URL:https://glendalesda.org/event/adult-sabbath-school/2026-04-25/
CATEGORIES:Members
END:VEVENT
END:VCALENDAR